BEGIN:VCALENDAR
VERSION:2.0
PRODID:-//Denver Broncos Quarterback Club - ECPv4.8.0.1//NONSGML v1.0//EN
CALSCALE:GREGORIAN
METHOD:PUBLISH
X-WR-CALNAME:Denver Broncos Quarterback Club
X-ORIGINAL-URL:https://denverbroncosqbclub.com
X-WR-CALDESC:Events for Denver Broncos Quarterback Club
BEGIN:VEVENT
DTSTART;TZID=America/Denver:20230401T113000
DTEND;TZID=America/Denver:20230401T130000
DTSTAMP:20260425T233911
CREATED:20230314T235921Z
LAST-MODIFIED:20230314T235921Z
UID:3164-1680348600-1680354000@denverbroncosqbclub.com
SUMMARY:Bucky Dilts Lunch Meeting
DESCRIPTION:
URL:https://denverbroncosqbclub.com/event/bucky-dilts-lunch-meeting/
LOCATION:Hoffbrau\, 9110 Wadsworth Parkway\, Westminster\, CO\, 80021\, United States
END:VEVENT
END:VCALENDAR