BEGIN:VCALENDAR
VERSION:2.0
PRODID:-//Denver Broncos Quarterback Club - ECPv4.8.0.1//NONSGML v1.0//EN
CALSCALE:GREGORIAN
METHOD:PUBLISH
X-WR-CALNAME:Denver Broncos Quarterback Club
X-ORIGINAL-URL:https://denverbroncosqbclub.com
X-WR-CALDESC:Events for Denver Broncos Quarterback Club
BEGIN:VEVENT
DTSTART;TZID=America/Denver:20231021T110000
DTEND;TZID=America/Denver:20231021T133000
DTSTAMP:20260425T220545
CREATED:20231005T014706Z
LAST-MODIFIED:20231005T014706Z
UID:3245-1697886000-1697895000@denverbroncosqbclub.com
SUMMARY:David Bruton Lunch Meeting
DESCRIPTION:
URL:https://denverbroncosqbclub.com/event/david-bruton-lunch-meeting/
LOCATION:Hoffbrau\, 9110 Wadsworth Parkway\, Westminster\, CO\, 80021\, United States
END:VEVENT
END:VCALENDAR