BEGIN:VCALENDAR
VERSION:2.0
PRODID:-//Denver Broncos Quarterback Club - ECPv4.8.0.1//NONSGML v1.0//EN
CALSCALE:GREGORIAN
METHOD:PUBLISH
X-WR-CALNAME:Denver Broncos Quarterback Club
X-ORIGINAL-URL:https://denverbroncosqbclub.com
X-WR-CALDESC:Events for Denver Broncos Quarterback Club
BEGIN:VEVENT
DTSTART;TZID=America/Denver:20251122T110000
DTEND;TZID=America/Denver:20251122T133000
DTSTAMP:20260424T234618
CREATED:20251113T004343Z
LAST-MODIFIED:20251113T004852Z
UID:3859-1763809200-1763818200@denverbroncosqbclub.com
SUMMARY:Don Horn/Drew Litton Lunch Meeting
DESCRIPTION:
URL:https://denverbroncosqbclub.com/event/don-horn-drew-litton-lunch-meeting/
LOCATION:Hoffbrau\, 9110 Wadsworth Parkway\, Westminster\, CO\, 80021\, United States
END:VEVENT
END:VCALENDAR