BEGIN:VCALENDAR
VERSION:2.0
PRODID:-//Denver Broncos Quarterback Club - ECPv4.8.0.1//NONSGML v1.0//EN
CALSCALE:GREGORIAN
METHOD:PUBLISH
X-WR-CALNAME:Denver Broncos Quarterback Club
X-ORIGINAL-URL:https://denverbroncosqbclub.com
X-WR-CALDESC:Events for Denver Broncos Quarterback Club
BEGIN:VEVENT
DTSTART;TZID=America/Denver:20251005T083000
DTEND;TZID=America/Denver:20251005T140000
DTSTAMP:20260425T031113
CREATED:20250926T000721Z
LAST-MODIFIED:20250926T000721Z
UID:3792-1759653000-1759672800@denverbroncosqbclub.com
SUMMARY:Game Watch Party vs Eagles 10/5 With Gradashar\, Moses\, & Egloff!
DESCRIPTION:
URL:https://denverbroncosqbclub.com/event/game-watch-party-vs-eagles-10-5-with-gradashar-moses-egloff/
END:VEVENT
END:VCALENDAR