BEGIN:VCALENDAR
VERSION:2.0
PRODID:-//Denver Broncos Quarterback Club - ECPv4.8.0.1//NONSGML v1.0//EN
CALSCALE:GREGORIAN
METHOD:PUBLISH
X-WR-CALNAME:Denver Broncos Quarterback Club
X-ORIGINAL-URL:https://denverbroncosqbclub.com
X-WR-CALDESC:Events for Denver Broncos Quarterback Club
BEGIN:VEVENT
DTSTART;TZID=America/Denver:20230128T110000
DTEND;TZID=America/Denver:20230128T123000
DTSTAMP:20260426T013657
CREATED:20230118T163246Z
LAST-MODIFIED:20230118T163246Z
UID:3114-1674903600-1674909000@denverbroncosqbclub.com
SUMMARY:Louis Wright Lunch Meeting
DESCRIPTION:
URL:https://denverbroncosqbclub.com/event/louis-wright-lunch-meeting/
LOCATION:Hoffbrau\, 9110 Wadsworth Parkway\, Westminster\, CO\, 80021\, United States
END:VEVENT
END:VCALENDAR