BEGIN:VCALENDAR
VERSION:2.0
PRODID:-//Denver Broncos Quarterback Club - ECPv4.8.0.1//NONSGML v1.0//EN
CALSCALE:GREGORIAN
METHOD:PUBLISH
X-WR-CALNAME:Denver Broncos Quarterback Club
X-ORIGINAL-URL:https://denverbroncosqbclub.com
X-WR-CALDESC:Events for Denver Broncos Quarterback Club
BEGIN:VEVENT
DTSTART;TZID=America/Denver:20240908T113000
DTEND;TZID=America/Denver:20240908T170000
DTSTAMP:20260425T112958
CREATED:20240820T194053Z
LAST-MODIFIED:20240820T194053Z
UID:3479-1725795000-1725814800@denverbroncosqbclub.com
SUMMARY:Randy Gradishar Watch Party Broncos/Seattle
DESCRIPTION:
URL:https://denverbroncosqbclub.com/event/randy-gradishar-watch-party-broncos-seattle/
LOCATION:Hoffbrau\, 9110 Wadsworth Parkway\, Westminster\, CO\, 80021\, United States
END:VEVENT
END:VCALENDAR