BEGIN:VCALENDAR
VERSION:2.0
PRODID:-//Denver Broncos Quarterback Club - ECPv4.8.0.1//NONSGML v1.0//EN
CALSCALE:GREGORIAN
METHOD:PUBLISH
X-WR-CALNAME:Denver Broncos Quarterback Club
X-ORIGINAL-URL:https://denverbroncosqbclub.com
X-WR-CALDESC:Events for Denver Broncos Quarterback Club
BEGIN:VEVENT
DTSTART;TZID=America/Denver:20240309T110000
DTEND;TZID=America/Denver:20240309T133000
DTSTAMP:20260425T183905
CREATED:20240218T184548Z
LAST-MODIFIED:20240218T184548Z
UID:3319-1709982000-1709991000@denverbroncosqbclub.com
SUMMARY:Reuben Droughns Lunch Meeting
DESCRIPTION:
URL:https://denverbroncosqbclub.com/event/reuben-droughns-lunch-meeting/
LOCATION:Hoffbrau\, 9110 Wadsworth Parkway\, Westminster\, CO\, 80021\, United States
END:VEVENT
END:VCALENDAR