BEGIN:VCALENDAR
VERSION:2.0
PRODID:-//Denver Broncos Quarterback Club - ECPv4.8.0.1//NONSGML v1.0//EN
CALSCALE:GREGORIAN
METHOD:PUBLISH
X-WR-CALNAME:Denver Broncos Quarterback Club
X-ORIGINAL-URL:https://denverbroncosqbclub.com
X-WR-CALDESC:Events for Denver Broncos Quarterback Club
BEGIN:VEVENT
DTSTART;TZID=America/Denver:20240810T110000
DTEND;TZID=America/Denver:20240810T133000
DTSTAMP:20260425T164705
CREATED:20240723T182514Z
LAST-MODIFIED:20240723T182514Z
UID:3430-1723287600-1723296600@denverbroncosqbclub.com
SUMMARY:Steve Foley Lunch Meeting
DESCRIPTION:
URL:https://denverbroncosqbclub.com/event/steve-foley-lunch-meeting/
LOCATION:Hoffbrau\, 9110 Wadsworth Parkway\, Westminster\, CO\, 80021\, United States
END:VEVENT
END:VCALENDAR