BEGIN:VCALENDAR
VERSION:2.0
PRODID:-//Denver Broncos Quarterback Club - ECPv4.8.0.1//NONSGML v1.0//EN
CALSCALE:GREGORIAN
METHOD:PUBLISH
X-WR-CALNAME:Denver Broncos Quarterback Club
X-ORIGINAL-URL:https://denverbroncosqbclub.com
X-WR-CALDESC:Events for Denver Broncos Quarterback Club
BEGIN:VEVENT
DTSTART;TZID=America/Denver:20240828T060000
DTEND;TZID=America/Denver:20240828T190000
DTSTAMP:20260425T132707
CREATED:20240827T195106Z
LAST-MODIFIED:20240827T195106Z
UID:3494-1724824800-1724871600@denverbroncosqbclub.com
SUMMARY:Susie Wargin Zoom Meeting
DESCRIPTION:
URL:https://denverbroncosqbclub.com/event/susie-wargin-zoom-meeting/
LOCATION:web access
END:VEVENT
END:VCALENDAR